BEGIN:VCALENDAR
VERSION:2.0
PRODID:-//eventon.com NONSGML v1.0//EN
CALSCALE:GREGORIAN
METHOD:PUBLISH
BEGIN:VEVENT
UID:69ea39d5707a7
DTSTAMP:20260423T152509Z
DTSTART:20230603
DTEND:20230604
LOCATION:
SUMMARY:Project Most (East Hampton\,  NY)
DESCRIPTION:Project Most (East Hampton\,  NY)\nhttps://chasingchildhooddoc.
 com/events/project-most/
URL:https://chasingchildhooddoc.com/events/project-most/
END:VEVENT
END:VCALENDAR