BEGIN:VCALENDAR
VERSION:2.0
PRODID:-//eventon.com NONSGML v1.0//EN
CALSCALE:GREGORIAN
METHOD:PUBLISH
BEGIN:VEVENT
UID:69ea3b4649aaf
DTSTAMP:20260423T153118Z
DTSTART:20230415
DTEND:20230416
LOCATION:
SUMMARY:Santa Ana College (Santa Ana\,  CA)
DESCRIPTION:Santa Ana College (Santa Ana\,  CA)\nhttps://chasingchildhooddo
 c.com/events/santa-ana/
URL:https://chasingchildhooddoc.com/events/santa-ana/
END:VEVENT
END:VCALENDAR