BEGIN:VCALENDAR
VERSION:2.0
PRODID:-//eventon.com NONSGML v1.0//EN
CALSCALE:GREGORIAN
METHOD:PUBLISH
BEGIN:VEVENT
UID:69ea3a52d4fc3
DTSTAMP:20260423T152714Z
DTSTART:20230313
DTEND:20230314
LOCATION:
SUMMARY:Everyone Reading 2023 Conference
DESCRIPTION:Everyone Reading 2023 Conference\nhttps://chasingchildhooddoc.c
 om/events/everyonereading/
URL:https://chasingchildhooddoc.com/events/everyonereading/
END:VEVENT
END:VCALENDAR