BEGIN:VCALENDAR
VERSION:2.0
PRODID:-//eventon.com NONSGML v1.0//EN
CALSCALE:GREGORIAN
METHOD:PUBLISH
BEGIN:VEVENT
UID:69ea3a55549fe
DTSTAMP:20260423T152717Z
DTSTART:20230211
DTEND:20230212
LOCATION:
SUMMARY:Concord Family and Youth Services (Acton\,  MA)
DESCRIPTION:Concord Family and Youth Services (Acton\,  MA)\nhttps://chasin
 gchildhooddoc.com/events/concord/
URL:https://chasingchildhooddoc.com/events/concord/
END:VEVENT
END:VCALENDAR