BEGIN:VCALENDAR
VERSION:2.0
PRODID:-//eventon.com NONSGML v1.0//EN
CALSCALE:GREGORIAN
METHOD:PUBLISH
BEGIN:VEVENT
UID:69ea39de1cb9b
DTSTAMP:20260423T152518Z
DTSTART:20221125
DTEND:20221126
LOCATION:
SUMMARY:Whitehorse City Council (Nunawading\,  Victoria\,  AUS)
DESCRIPTION:Whitehorse City Council (Nunawading\,  Victoria\,  AUS)\nhttps:
 //chasingchildhooddoc.com/events/whitehorsecitycouncil/
URL:https://chasingchildhooddoc.com/events/whitehorsecitycouncil/
END:VEVENT
END:VCALENDAR