BEGIN:VCALENDAR
VERSION:2.0
PRODID:-//eventon.com NONSGML v1.0//EN
CALSCALE:GREGORIAN
METHOD:PUBLISH
BEGIN:VEVENT
UID:69ea3a8a45059
DTSTAMP:20260423T152810Z
DTSTART:20221121
DTEND:20221122
LOCATION:
SUMMARY:PS/MS 20 (Bronx\,  NY)
DESCRIPTION:PS/MS 20 (Bronx\,  NY)\nhttps://chasingchildhooddoc.com/events/
 psms20/
URL:https://chasingchildhooddoc.com/events/psms20/
END:VEVENT
END:VCALENDAR