BEGIN:VCALENDAR
VERSION:2.0
PRODID:-//eventon.com NONSGML v1.0//EN
CALSCALE:GREGORIAN
METHOD:PUBLISH
BEGIN:VEVENT
UID:69ea3a0f3f987
DTSTAMP:20260423T152607Z
DTSTART:20221117
DTEND:20221118
LOCATION:
SUMMARY:Massachusetts General Hospital Center for Faculty Development (Boston\,  MA)
DESCRIPTION:Massachusetts General Hospital Center for Faculty Development (
 Boston\,  MA)\nhttps://chasingchildhooddoc.com/events/massgeneral/
URL:https://chasingchildhooddoc.com/events/massgeneral/
END:VEVENT
END:VCALENDAR