BEGIN:VCALENDAR
VERSION:2.0
PRODID:-//eventon.com NONSGML v1.0//EN
CALSCALE:GREGORIAN
METHOD:PUBLISH
BEGIN:VEVENT
UID:69ea39d0ee426
DTSTAMP:20260423T152504Z
DTSTART:20221104
DTEND:20221105
LOCATION:
SUMMARY:Los Angeles Pierce College (Woodland Hills\,  CA)
DESCRIPTION:Los Angeles Pierce College (Woodland Hills\,  CA)\nhttps://chas
 ingchildhooddoc.com/events/pierce/
URL:https://chasingchildhooddoc.com/events/pierce/
END:VEVENT
END:VCALENDAR