BEGIN:VCALENDAR
VERSION:2.0
PRODID:-//eventon.com NONSGML v1.0//EN
CALSCALE:GREGORIAN
METHOD:PUBLISH
BEGIN:VEVENT
UID:69ea3a0f0dbe0
DTSTAMP:20260423T152607Z
DTSTART:20221104
DTEND:20221105
LOCATION:
SUMMARY:The Fay School (Houston\,  TX)
DESCRIPTION:The Fay School (Houston\,  TX)\nhttps://chasingchildhooddoc.com
 /events/fay/
URL:https://chasingchildhooddoc.com/events/fay/
END:VEVENT
END:VCALENDAR