BEGIN:VCALENDAR
VERSION:2.0
PRODID:-//eventon.com NONSGML v1.0//EN
CALSCALE:GREGORIAN
METHOD:PUBLISH
BEGIN:VEVENT
UID:69ea39e2d47ea
DTSTAMP:20260423T152522Z
DTSTART:20221103
DTEND:20221104
LOCATION:
SUMMARY:Browne Academy (Alexandria\,  VA)
DESCRIPTION:Browne Academy (Alexandria\,  VA)\nhttps://chasingchildhooddoc.
 com/events/browne/
URL:https://chasingchildhooddoc.com/events/browne/
END:VEVENT
END:VCALENDAR