BEGIN:VCALENDAR
VERSION:2.0
PRODID:-//eventon.com NONSGML v1.0//EN
CALSCALE:GREGORIAN
METHOD:PUBLISH
BEGIN:VEVENT
UID:69ea3a27b53f1
DTSTAMP:20260423T152631Z
DTSTART:20221101
DTEND:20221102
LOCATION:
SUMMARY:Taarika Foundation (Sunnyvale\,  CA)
DESCRIPTION:Taarika Foundation (Sunnyvale\,  CA)\nhttps://chasingchildhoodd
 oc.com/events/taarika/
URL:https://chasingchildhooddoc.com/events/taarika/
END:VEVENT
END:VCALENDAR