BEGIN:VCALENDAR
VERSION:2.0
PRODID:-//eventon.com NONSGML v1.0//EN
CALSCALE:GREGORIAN
METHOD:PUBLISH
BEGIN:VEVENT
UID:69ea3a1088363
DTSTAMP:20260423T152608Z
DTSTART:20221028
DTEND:20221029
LOCATION:
SUMMARY:Northampton Senior Center (Northampton\,  MA)
DESCRIPTION:Northampton Senior Center (Northampton\,  MA)\nhttps://chasingc
 hildhooddoc.com/events/northampton/
URL:https://chasingchildhooddoc.com/events/northampton/
END:VEVENT
END:VCALENDAR