BEGIN:VCALENDAR
VERSION:2.0
PRODID:-//eventon.com NONSGML v1.0//EN
CALSCALE:GREGORIAN
METHOD:PUBLISH
BEGIN:VEVENT
UID:69ea39e34da55
DTSTAMP:20260423T152523Z
DTSTART:20221026
DTEND:20221027
LOCATION:
SUMMARY:Appalachian State University\,  Reich College of Education\,  James Center for Student Success and Advising (Boone\,  NC)
DESCRIPTION:Appalachian State University\,  Reich College of Education\,  J
 ames Center for Student Success and Advising (Boone\,  NC)\nhttps://chasing
 childhooddoc.com/events/asu/
URL:https://chasingchildhooddoc.com/events/asu/
END:VEVENT
END:VCALENDAR