BEGIN:VCALENDAR
VERSION:2.0
PRODID:-//eventon.com NONSGML v1.0//EN
CALSCALE:GREGORIAN
METHOD:PUBLISH
BEGIN:VEVENT
UID:69ea3a767dcc7
DTSTAMP:20260423T152750Z
DTSTART:20221021
DTEND:20221022
LOCATION:
SUMMARY:Feed and Be Fed (San Pedro\,  CA)
DESCRIPTION:Feed and Be Fed (San Pedro\,  CA)\nhttps://chasingchildhooddoc.
 com/events/feedandbefed/
URL:https://chasingchildhooddoc.com/events/feedandbefed/
END:VEVENT
END:VCALENDAR