BEGIN:VCALENDAR
VERSION:2.0
PRODID:-//eventon.com NONSGML v1.0//EN
CALSCALE:GREGORIAN
METHOD:PUBLISH
BEGIN:VEVENT
UID:69ea3a74b3212
DTSTAMP:20260423T152748Z
DTSTART:20221021
DTEND:20221022
LOCATION:
SUMMARY:Acton Academy Madison West (Madison\,  WI)
DESCRIPTION:Acton Academy Madison West (Madison\,  WI)\nhttps://chasingchil
 dhooddoc.com/events/actonmadisonwest/
URL:https://chasingchildhooddoc.com/events/actonmadisonwest/
END:VEVENT
END:VCALENDAR