BEGIN:VCALENDAR
VERSION:2.0
PRODID:-//eventon.com NONSGML v1.0//EN
CALSCALE:GREGORIAN
METHOD:PUBLISH
BEGIN:VEVENT
UID:69ea3a0ea002c
DTSTAMP:20260423T152606Z
DTSTART:20221020
DTEND:20221021
LOCATION:
SUMMARY:Fairmount Community Library (Syracuse\,  NY)
DESCRIPTION:Fairmount Community Library (Syracuse\,  NY)\nhttps://chasingch
 ildhooddoc.com/events/fairmount/
URL:https://chasingchildhooddoc.com/events/fairmount/
END:VEVENT
END:VCALENDAR