BEGIN:VCALENDAR
VERSION:2.0
PRODID:-//eventon.com NONSGML v1.0//EN
CALSCALE:GREGORIAN
METHOD:PUBLISH
BEGIN:VEVENT
UID:69ea3a7a64bf9
DTSTAMP:20260423T152754Z
DTSTART:20221013
DTEND:20221014
LOCATION:
SUMMARY:St. Stephens (Orinda\,  CA)
DESCRIPTION:St. Stephens (Orinda\,  CA)\nhttps://chasingchildhooddoc.com/ev
 ents/orinda/
URL:https://chasingchildhooddoc.com/events/orinda/
END:VEVENT
END:VCALENDAR