BEGIN:VCALENDAR
VERSION:2.0
PRODID:-//eventon.com NONSGML v1.0//EN
CALSCALE:GREGORIAN
METHOD:PUBLISH
BEGIN:VEVENT
UID:69ea3a7701c58
DTSTAMP:20260423T152751Z
DTSTART:20221007
DTEND:20221008
LOCATION:
SUMMARY:Hubbard Woods (Winnetka\,  IL)
DESCRIPTION:Hubbard Woods (Winnetka\,  IL)\nhttps://chasingchildhooddoc.com
 /events/hubbardwoods/
URL:https://chasingchildhooddoc.com/events/hubbardwoods/
END:VEVENT
END:VCALENDAR