BEGIN:VCALENDAR
VERSION:2.0
PRODID:-//eventon.com NONSGML v1.0//EN
CALSCALE:GREGORIAN
METHOD:PUBLISH
BEGIN:VEVENT
UID:69ea3a761b1cb
DTSTAMP:20260423T152750Z
DTSTART:20221004
DTEND:20221005
LOCATION:
SUMMARY:St. Vrain Middle School (Loveland\,  CO)
DESCRIPTION:St. Vrain Middle School (Loveland\,  CO)\nhttps://chasingchildh
 ooddoc.com/events/st_vrain/
URL:https://chasingchildhooddoc.com/events/st_vrain/
END:VEVENT
END:VCALENDAR