BEGIN:VCALENDAR
VERSION:2.0
PRODID:-//eventon.com NONSGML v1.0//EN
CALSCALE:GREGORIAN
METHOD:PUBLISH
BEGIN:VEVENT
UID:69ea3af88757a
DTSTAMP:20260423T153000Z
DTSTART:20221001
DTEND:20221002
LOCATION:
SUMMARY:Wild Oak Explorers (Fernandina Beach\,  FL)
DESCRIPTION:Wild Oak Explorers (Fernandina Beach\,  FL)\nhttps://chasingchi
 ldhooddoc.com/events/wildoak/
URL:https://chasingchildhooddoc.com/events/wildoak/
END:VEVENT
END:VCALENDAR