BEGIN:VCALENDAR
VERSION:2.0
PRODID:-//eventon.com NONSGML v1.0//EN
CALSCALE:GREGORIAN
METHOD:PUBLISH
BEGIN:VEVENT
UID:69ea39e4d469d
DTSTAMP:20260423T152524Z
DTSTART:20220930
DTEND:20221001
LOCATION:
SUMMARY:Above and Beyond the Classroom in Teton Valley (Dubois\,  WI)
DESCRIPTION:Above and Beyond the Classroom in Teton Valley (Dubois\,  WI)\n
 https://chasingchildhooddoc.com/events/dubois/
URL:https://chasingchildhooddoc.com/events/dubois/
END:VEVENT
END:VCALENDAR