BEGIN:VCALENDAR
VERSION:2.0
PRODID:-//eventon.com NONSGML v1.0//EN
CALSCALE:GREGORIAN
METHOD:PUBLISH
BEGIN:VEVENT
UID:69ea3a0a70abb
DTSTAMP:20260423T152602Z
DTSTART:20220929
DTEND:20220930
LOCATION:
SUMMARY:Environmental Volunteers (San Jose\,  CA)
DESCRIPTION:Environmental Volunteers (San Jose\,  CA)\nhttps://chasingchild
 hooddoc.com/events/env_vol/
URL:https://chasingchildhooddoc.com/events/env_vol/
END:VEVENT
END:VCALENDAR