BEGIN:VCALENDAR
VERSION:2.0
PRODID:-//eventon.com NONSGML v1.0//EN
CALSCALE:GREGORIAN
METHOD:PUBLISH
BEGIN:VEVENT
UID:69ea3b0274cc6
DTSTAMP:20260423T153010Z
DTSTART:20220923
DTEND:20220924
LOCATION:
SUMMARY:Racine Unified School District (Racine\,  WI)
DESCRIPTION:Racine Unified School District (Racine\,  WI)\nhttps://chasingc
 hildhooddoc.com/events/racine/
URL:https://chasingchildhooddoc.com/events/racine/
END:VEVENT
END:VCALENDAR