BEGIN:VCALENDAR
VERSION:2.0
PRODID:-//eventon.com NONSGML v1.0//EN
CALSCALE:GREGORIAN
METHOD:PUBLISH
BEGIN:VEVENT
UID:69ea3a2a5e2fa
DTSTAMP:20260423T152634Z
DTSTART:20220922
DTEND:20220923
LOCATION:
SUMMARY:Roots and Wings Childhood (Halifax\,  Nova Scotia)
DESCRIPTION:Roots and Wings Childhood (Halifax\,  Nova Scotia)\nhttps://cha
 singchildhooddoc.com/events/roots-and-wings/
URL:https://chasingchildhooddoc.com/events/roots-and-wings/
END:VEVENT
END:VCALENDAR