BEGIN:VCALENDAR
VERSION:2.0
PRODID:-//eventon.com NONSGML v1.0//EN
CALSCALE:GREGORIAN
METHOD:PUBLISH
BEGIN:VEVENT
UID:69e7382805084
DTSTAMP:20260421T084112Z
DTSTART:20220909
DTEND:20220910
LOCATION:
SUMMARY:Des Moines Public Schools (Des Moines\,  IA)
DESCRIPTION:Des Moines Public Schools (Des Moines\,  IA)\nhttps://chasingch
 ildhooddoc.com/events/desmoines/
URL:https://chasingchildhooddoc.com/events/desmoines/
END:VEVENT
END:VCALENDAR