BEGIN:VCALENDAR
VERSION:2.0
PRODID:-//eventon.com NONSGML v1.0//EN
CALSCALE:GREGORIAN
METHOD:PUBLISH
BEGIN:VEVENT
UID:69ea3a261dcd3
DTSTAMP:20260423T152630Z
DTSTART:20220905
DTEND:20220906
LOCATION:
SUMMARY:Silva Outschool (McKinney\,  TX)
DESCRIPTION:Silva Outschool (McKinney\,  TX)\nhttps://chasingchildhooddoc.c
 om/events/silva/
URL:https://chasingchildhooddoc.com/events/silva/
END:VEVENT
END:VCALENDAR