BEGIN:VCALENDAR
VERSION:2.0
PRODID:-//eventon.com NONSGML v1.0//EN
CALSCALE:GREGORIAN
METHOD:PUBLISH
BEGIN:VEVENT
UID:69ea3a0a01339
DTSTAMP:20260423T152602Z
DTSTART:20220902
DTEND:20220903
LOCATION:
SUMMARY:Arizona Independent School (Tuscon\,  AZ)
DESCRIPTION:Arizona Independent School (Tuscon\,  AZ)\nhttps://chasingchild
 hooddoc.com/events/tuscon/
URL:https://chasingchildhooddoc.com/events/tuscon/
END:VEVENT
END:VCALENDAR