BEGIN:VCALENDAR
VERSION:2.0
PRODID:-//eventon.com NONSGML v1.0//EN
CALSCALE:GREGORIAN
METHOD:PUBLISH
BEGIN:VEVENT
UID:69ea3a2d669b5
DTSTAMP:20260423T152637Z
DTSTART:20220901
DTEND:20220902
LOCATION:
SUMMARY:Free To Be Foundation (Tansey\,  Queensland)
DESCRIPTION:Free To Be Foundation (Tansey\,  Queensland)\nhttps://chasingch
 ildhooddoc.com/events/freetobe/
URL:https://chasingchildhooddoc.com/events/freetobe/
END:VEVENT
END:VCALENDAR