BEGIN:VCALENDAR
VERSION:2.0
PRODID:-//eventon.com NONSGML v1.0//EN
CALSCALE:GREGORIAN
METHOD:PUBLISH
BEGIN:VEVENT
UID:69e7388b461a7
DTSTAMP:20260421T084251Z
DTSTART:20220831
DTEND:20220901
LOCATION:
SUMMARY:Frederiksbjerg Skole (Aarhus\,  Denmark)
DESCRIPTION:Frederiksbjerg Skole (Aarhus\,  Denmark)\nhttps://chasingchildh
 ooddoc.com/events/aarhus/
URL:https://chasingchildhooddoc.com/events/aarhus/
END:VEVENT
END:VCALENDAR