BEGIN:VCALENDAR
VERSION:2.0
PRODID:-//eventon.com NONSGML v1.0//EN
CALSCALE:GREGORIAN
METHOD:PUBLISH
BEGIN:VEVENT
UID:69ea3a2daf934
DTSTAMP:20260423T152637Z
DTSTART:20220824
DTEND:20220825
LOCATION:
SUMMARY:George C. Baker Elementary School (Moorestown\,  NJ)
DESCRIPTION:George C. Baker Elementary School (Moorestown\,  NJ)\nhttps://c
 hasingchildhooddoc.com/events/georgecbaker/
URL:https://chasingchildhooddoc.com/events/georgecbaker/
END:VEVENT
END:VCALENDAR