BEGIN:VCALENDAR
VERSION:2.0
PRODID:-//eventon.com NONSGML v1.0//EN
CALSCALE:GREGORIAN
METHOD:PUBLISH
BEGIN:VEVENT
UID:69ea3a87e7dc8
DTSTAMP:20260423T152807Z
DTSTART:20230318T040000Z
DTEND:20230319T035900Z
LOCATION:
SUMMARY:Brain Film Fest (Barcelona\,  Spain)
DESCRIPTION:Brain Film Fest (Barcelona\,  Spain)\nhttps://chasingchildhoodd
 oc.com/events/brain-film-fest-barcelona-spain_/
URL:https://chasingchildhooddoc.com/events/brain-film-fest-barcelona-spain_/
END:VEVENT
END:VCALENDAR