BEGIN:VCALENDAR
VERSION:2.0
PRODID:-//eventon.com NONSGML v1.0//EN
CALSCALE:GREGORIAN
METHOD:PUBLISH
BEGIN:VEVENT
UID:69ea3a54b84ec
DTSTAMP:20260423T152716Z
DTSTART:20230109
DTEND:20230110
LOCATION:
SUMMARY:Nakusp Elementary (Nakusp\,  BC)
DESCRIPTION:Nakusp Elementary (Nakusp\,  BC)\nhttps://chasingchildhooddoc.c
 om/events/nakusp-elementary-nakusp-bc/
URL:https://chasingchildhooddoc.com/events/nakusp-elementary-nakusp-bc/
END:VEVENT
END:VCALENDAR