BEGIN:VCALENDAR
VERSION:2.0
PRODID:-//eventon.com NONSGML v1.0//EN
CALSCALE:GREGORIAN
METHOD:PUBLISH
BEGIN:VEVENT
UID:69ea39d7be7be
DTSTAMP:20260423T152511Z
DTSTART:20221111
DTEND:20221112
LOCATION:
SUMMARY:Palgrave United Community Kitchen (Palgrave\,  Ontario)
DESCRIPTION:Palgrave United Community Kitchen (Palgrave\,  Ontario)\nhttps:
 //chasingchildhooddoc.com/events/palgrave-united-community-kitchen-palgrave
 -ontario/
URL:https://chasingchildhooddoc.com/events/palgrave-united-community-kitchen-palgrave-ontario/
END:VEVENT
END:VCALENDAR