BEGIN:VCALENDAR
VERSION:2.0
PRODID:-//eventon.com NONSGML v1.0//EN
CALSCALE:GREGORIAN
METHOD:PUBLISH
BEGIN:VEVENT
UID:69ea3a55bde7f
DTSTAMP:20260423T152717Z
DTSTART:20221015
DTEND:20221016
LOCATION:
SUMMARY:Openhouse-SF (San Francisco\,  CA)
DESCRIPTION:Openhouse-SF (San Francisco\,  CA)\nhttps://chasingchildhooddoc
 .com/events/openhouse-sf-san-francisco-ca/
URL:https://chasingchildhooddoc.com/events/openhouse-sf-san-francisco-ca/
END:VEVENT
END:VCALENDAR