BEGIN:VCALENDAR
VERSION:2.0
PRODID:-//eventon.com NONSGML v1.0//EN
CALSCALE:GREGORIAN
METHOD:PUBLISH
BEGIN:VEVENT
UID:69ea3a2bab3c4
DTSTAMP:20260423T152635Z
DTSTART:20221015
DTEND:20221016
LOCATION:
SUMMARY:Brotherhood Synagogue Nursery School (New York\,  NY)
DESCRIPTION:Brotherhood Synagogue Nursery School (New York\,  NY)\nhttps://
 chasingchildhooddoc.com/events/brotherhood-synagogue-nursery-school-new-yor
 k-ny/
URL:https://chasingchildhooddoc.com/events/brotherhood-synagogue-nursery-school-new-york-ny/
END:VEVENT
END:VCALENDAR