BEGIN:VCALENDAR
VERSION:2.0
PRODID:-//eventon.com NONSGML v1.0//EN
CALSCALE:GREGORIAN
METHOD:PUBLISH
BEGIN:VEVENT
UID:69ea3a7468fff
DTSTAMP:20260423T152748Z
DTSTART:20221014
DTEND:20221015
LOCATION:
SUMMARY:Alma Forest School (San Enrique\,  Cadiz\,  Spain)
DESCRIPTION:Alma Forest School (San Enrique\,  Cadiz\,  Spain)\nhttps://cha
 singchildhooddoc.com/events/alma-forest-school-san-enrique-cadiz-spain/
URL:https://chasingchildhooddoc.com/events/alma-forest-school-san-enrique-cadiz-spain/
END:VEVENT
END:VCALENDAR