BEGIN:VCALENDAR
VERSION:2.0
PRODID:-//eventon.com NONSGML v1.0//EN
CALSCALE:GREGORIAN
METHOD:PUBLISH
BEGIN:VEVENT
UID:69ea3a9aa11f8
DTSTAMP:20260423T152826Z
DTSTART:20221012
DTEND:20221013
LOCATION:
SUMMARY:Springer Nature (London\,  UK)
DESCRIPTION:Springer Nature (London\,  UK)\nhttps://chasingchildhooddoc.com
 /events/springer-nature-london-uk/
URL:https://chasingchildhooddoc.com/events/springer-nature-london-uk/
END:VEVENT
END:VCALENDAR