BEGIN:VCALENDAR
VERSION:2.0
PRODID:-//eventon.com NONSGML v1.0//EN
CALSCALE:GREGORIAN
METHOD:PUBLISH
BEGIN:VEVENT
UID:69ea3a28d73e7
DTSTAMP:20260423T152632Z
DTSTART:20221010
DTEND:20221011
LOCATION:
SUMMARY:University of Washington (Seattle\,  WA)
DESCRIPTION:University of Washington (Seattle\,  WA)\nhttps://chasingchildh
 ooddoc.com/events/university-of-washington-seattle-wa/
URL:https://chasingchildhooddoc.com/events/university-of-washington-seattle-wa/
END:VEVENT
END:VCALENDAR