BEGIN:VCALENDAR
VERSION:2.0
PRODID:-//eventon.com NONSGML v1.0//EN
CALSCALE:GREGORIAN
METHOD:PUBLISH
BEGIN:VEVENT
UID:69ea3a5075f75
DTSTAMP:20260423T152712Z
DTSTART:20221001
DTEND:20221002
LOCATION:
SUMMARY:CivicGeorgia (Atlanta\,  GA)
DESCRIPTION:CivicGeorgia (Atlanta\,  GA)\nhttps://chasingchildhooddoc.com/e
 vents/civicgeorgia-atlanta-ga/
URL:https://chasingchildhooddoc.com/events/civicgeorgia-atlanta-ga/
END:VEVENT
END:VCALENDAR