BEGIN:VCALENDAR
VERSION:2.0
PRODID:-//eventon.com NONSGML v1.0//EN
CALSCALE:GREGORIAN
METHOD:PUBLISH
BEGIN:VEVENT
UID:69ea3a764974d
DTSTAMP:20260423T152750Z
DTSTART:20220928
DTEND:20220929
LOCATION:
SUMMARY:Lymes' Youth Services (Old Lyme\,  CT)
DESCRIPTION:Lymes' Youth Services (Old Lyme\,  CT)\nhttps://chasingchildhoo
 ddoc.com/events/lymes-youth-services-old-lyme-ct/
URL:https://chasingchildhooddoc.com/events/lymes-youth-services-old-lyme-ct/
END:VEVENT
END:VCALENDAR