BEGIN:VCALENDAR
VERSION:2.0
PRODID:-//eventon.com NONSGML v1.0//EN
CALSCALE:GREGORIAN
METHOD:PUBLISH
BEGIN:VEVENT
UID:69ea3a76b33d7
DTSTAMP:20260423T152750Z
DTSTART:20220924
DTEND:20220925
LOCATION:
SUMMARY:Free and Wild (Mitchell\,  Ontario)
DESCRIPTION:Free and Wild (Mitchell\,  Ontario)\nhttps://chasingchildhooddo
 c.com/events/free-and-wild-mitchell-ontario/
URL:https://chasingchildhooddoc.com/events/free-and-wild-mitchell-ontario/
END:VEVENT
END:VCALENDAR