BEGIN:VCALENDAR
VERSION:2.0
PRODID:-//eventon.com NONSGML v1.0//EN
CALSCALE:GREGORIAN
METHOD:PUBLISH
BEGIN:VEVENT
UID:69ea3a27cf4c7
DTSTAMP:20260423T152631Z
DTSTART:20220919
DTEND:20220920
LOCATION:
SUMMARY:New Amsterdam School (New York\,  NY)
DESCRIPTION:New Amsterdam School (New York\,  NY)\nhttps://chasingchildhood
 doc.com/events/new-amsterdam-school-new-york-ny/
URL:https://chasingchildhooddoc.com/events/new-amsterdam-school-new-york-ny/
END:VEVENT
END:VCALENDAR