BEGIN:VCALENDAR
VERSION:2.0
PRODID:-//eventon.com NONSGML v1.0//EN
CALSCALE:GREGORIAN
METHOD:PUBLISH
BEGIN:VEVENT
UID:69ea3a0bc16c6
DTSTAMP:20260423T152603Z
DTSTART:20220916
DTEND:20220917
LOCATION:
SUMMARY:FDA (Silver Spring\,  MD)
DESCRIPTION:FDA (Silver Spring\,  MD)\nhttps://chasingchildhooddoc.com/even
 ts/fda-silver-spring-md/
URL:https://chasingchildhooddoc.com/events/fda-silver-spring-md/
END:VEVENT
END:VCALENDAR