BEGIN:VCALENDAR
VERSION:2.0
PRODID:-//eventon.com NONSGML v1.0//EN
CALSCALE:GREGORIAN
METHOD:PUBLISH
BEGIN:VEVENT
UID:69ea3a54dfcb2
DTSTAMP:20260423T152716Z
DTSTART:20220916
DTEND:20220917
LOCATION:
SUMMARY:Chaparral High School (Scottsdale\,  AZ)
DESCRIPTION:Chaparral High School (Scottsdale\,  AZ)\nhttps://chasingchildh
 ooddoc.com/events/chaparral-high-school-scottsdale-az/
URL:https://chasingchildhooddoc.com/events/chaparral-high-school-scottsdale-az/
END:VEVENT
END:VCALENDAR