BEGIN:VCALENDAR
VERSION:2.0
PRODID:-//eventon.com NONSGML v1.0//EN
CALSCALE:GREGORIAN
METHOD:PUBLISH
BEGIN:VEVENT
UID:69ea3a7686880
DTSTAMP:20260423T152750Z
DTSTART:20220915
DTEND:20220916
LOCATION:
SUMMARY:Huebner Elementary School (San Antonio\,  TX)
DESCRIPTION:Huebner Elementary School (San Antonio\,  TX)\nhttps://chasingc
 hildhooddoc.com/events/huebner-elementary-school-san-antonio-tx/
URL:https://chasingchildhooddoc.com/events/huebner-elementary-school-san-antonio-tx/
END:VEVENT
END:VCALENDAR