BEGIN:VCALENDAR
VERSION:2.0
PRODID:-//eventon.com NONSGML v1.0//EN
CALSCALE:GREGORIAN
METHOD:PUBLISH
BEGIN:VEVENT
UID:69ea39d353772
DTSTAMP:20260423T152507Z
DTSTART:20220915
DTEND:20220916
LOCATION:
SUMMARY:Boise School District (Boise\,  ID)
DESCRIPTION:Boise School District (Boise\,  ID)\nhttps://chasingchildhooddo
 c.com/events/boise-school-district-boise-id/
URL:https://chasingchildhooddoc.com/events/boise-school-district-boise-id/
END:VEVENT
END:VCALENDAR