BEGIN:VCALENDAR
VERSION:2.0
PRODID:-//eventon.com NONSGML v1.0//EN
CALSCALE:GREGORIAN
METHOD:PUBLISH
BEGIN:VEVENT
UID:69ea3a50ba3ed
DTSTAMP:20260423T152712Z
DTSTART:20220914
DTEND:20220915
LOCATION:
SUMMARY:Menlo Park City School District (Menlo Park\,  CA)
DESCRIPTION:Menlo Park City School District (Menlo Park\,  CA)\nhttps://cha
 singchildhooddoc.com/events/menlo-park-city-school-district-menlo-park-ca/
URL:https://chasingchildhooddoc.com/events/menlo-park-city-school-district-menlo-park-ca/
END:VEVENT
END:VCALENDAR