BEGIN:VCALENDAR
VERSION:2.0
PRODID:-//eventon.com NONSGML v1.0//EN
CALSCALE:GREGORIAN
METHOD:PUBLISH
BEGIN:VEVENT
UID:69ea3a550a82c
DTSTAMP:20260423T152717Z
DTSTART:20220913
DTEND:20220914
LOCATION:
SUMMARY:Henniker Community School (Henniker\,  NH)
DESCRIPTION:Henniker Community School (Henniker\,  NH)\nhttps://chasingchil
 dhooddoc.com/events/henniker-community-school-henniker-nh/
URL:https://chasingchildhooddoc.com/events/henniker-community-school-henniker-nh/
END:VEVENT
END:VCALENDAR