BEGIN:VCALENDAR
VERSION:2.0
PRODID:-//eventon.com NONSGML v1.0//EN
CALSCALE:GREGORIAN
METHOD:PUBLISH
BEGIN:VEVENT
UID:69ea3a871cf50
DTSTAMP:20260423T152807Z
DTSTART:20220911
DTEND:20220912
LOCATION:
SUMMARY:The Kings Children Full Gospel (Baton Rouge\,  LA)
DESCRIPTION:The Kings Children Full Gospel (Baton Rouge\,  LA)\nhttps://cha
 singchildhooddoc.com/events/the-kings-children-full-gospel-baton-rouge-la/
URL:https://chasingchildhooddoc.com/events/the-kings-children-full-gospel-baton-rouge-la/
END:VEVENT
END:VCALENDAR