BEGIN:VCALENDAR
VERSION:2.0
PRODID:-//eventon.com NONSGML v1.0//EN
CALSCALE:GREGORIAN
METHOD:PUBLISH
BEGIN:VEVENT
UID:69ea3a749763b
DTSTAMP:20260423T152748Z
DTSTART:20220911
DTEND:20220912
LOCATION:
SUMMARY:Private Home Educator (Chicago\,  IL)
DESCRIPTION:Private Home Educator (Chicago\,  IL)\nhttps://chasingchildhood
 doc.com/events/private-home-educator-chicago-il/
URL:https://chasingchildhooddoc.com/events/private-home-educator-chicago-il/
END:VEVENT
END:VCALENDAR